BEGIN:VCALENDAR
VERSION:2.0
PRODID:gruene-schwerte.de
METHOD:PUBLISH
BEGIN:VTIMEZONE
TZID:Europe/Berlin
X-LIC-LOCATION:Europe/Berlin
BEGIN:DAYLIGHT
TZOFFSETFROM:+0100
TZOFFSETTO:+0200
TZNAME:CEST
DTSTART:19700329T020000
RRULE:FREQ=YEARLY;INTERVAL=1;BYDAY=-1SU;BYMONTH=3
END:DAYLIGHT
BEGIN:STANDARD
TZOFFSETFROM:+0200
TZOFFSETTO:+0100
TZNAME:CET
DTSTART:19701025T030000
RRULE:FREQ=YEARLY;INTERVAL=1;BYDAY=-1SU;BYMONTH=10
END:STANDARD
END:VTIMEZONE
BEGIN:VEVENT
UID:d92d7dd9a6416e85df6d5ede93ff496b@gruene-schwerte.de
URL;VALUE=URI:https://gruene-schwerte.de/index.php/termine/kuwebe-2/
LOCATION:Ratssaal, Rathausstr. 31, 58239 Schwerte
SUMMARY:Verwaltungsrat KuWeBe
DESCRIPTION;ALTREP="data:text/html,%3Cp%3E%3C%2Fp%3E":
CLASS:PUBLIC
DTSTART;TZID=Europe/Berlin:20260629T160000
DTEND;TZID=Europe/Berlin:20260629T170000
DTSTAMP:20260419T114655
END:VEVENT
END:VCALENDAR